BEGIN:VCALENDAR
VERSION:2.0
PRODID:-//wp-events-plugin.com//7.2.3.1//EN
TZID:Europe/Paris
X-WR-TIMEZONE:Europe/Paris
BEGIN:VEVENT
UID:304@sesam-bretagne.fr
DTSTART;TZID=Europe/Paris:20240531T160000
DTEND;TZID=Europe/Paris:20240531T190000
DTSTAMP:20240523T154814Z
URL:https://sesam-bretagne.fr/evenements/forum-cyber-harcelement/
SUMMARY:Forum CYBER-harcèlement
DESCRIPTION:Ce vendredi 31 mai se déroulera le forum CYBER-harcèlement de
  16h à 19h au collège de Tréfaven\, les professionnels du PAEJ de Lorie
 nt seront présent pour échanger avec les ados et les parents.
ATTACH;FMTTYPE=image/jpeg:https://sesam-bretagne.fr/wp-content/uploads/202
 4/05/Design-sans-titre.jpg
CATEGORIES:Collégiens,Parents
LOCATION:Collège de Trefaven\, 26 boulevard du Scorff\, LORIENT\, 56100\, 
 France
GEO:47.762349;-3.367128
X-APPLE-STRUCTURED-LOCATION;VALUE=URI;X-ADDRESS=26 boulevard du Scorff\, LO
 RIENT\, 56100\, France;X-APPLE-RADIUS=100;X-TITLE=Collège de Trefaven:geo
 :47.762349,-3.367128
END:VEVENT
BEGIN:VTIMEZONE
TZID:Europe/Paris
X-LIC-LOCATION:Europe/Paris
BEGIN:DAYLIGHT
DTSTART:20240331T030000
TZOFFSETFROM:+0100
TZOFFSETTO:+0200
TZNAME:CEST
END:DAYLIGHT
END:VTIMEZONE
END:VCALENDAR