BEGIN:VCALENDAR
VERSION:2.0
PRODID:-//wp-events-plugin.com//7.2.3.1//EN
TZID:Europe/Paris
X-WR-TIMEZONE:Europe/Paris
BEGIN:VEVENT
UID:171@sesam-bretagne.fr
DTSTART;TZID=Europe/Paris:20230615T140000
DTEND;TZID=Europe/Paris:20230615T181500
DTSTAMP:20230525T164348Z
URL:https://sesam-bretagne.fr/evenements/journee-de-sensibilisation-et-din
 formation-sur-la-sante-mentale-des-jeunes-2/
SUMMARY:Journée de sensibilisation et d’information sur la santé mental
 e des jeunes
DESCRIPTION:Vous pouvez être amené à accompagner ou intervenir auprès d
 e jeunes (12 à 25 ans) en souffrance psychique et vous souhaitez connaît
 re\, repérer et échanger avec les acteurs du territoire (Centre Bretagne
 ).\nCette journée d’information et de sensibilisation est destinée à 
 vous apporter des clés de compréhension pour accompagner ces personnes\,
  et ne pas rester seul face à vos questionnements.\nLe réseau Misaco Cen
 tre Bretagne est à l’initiative de ce temps fort.\nIl part du postulat 
 que chacun a un rôle à jouer dans la prévention de la souffrance psychi
 que et des conduites suicidaires : accueil\, écoute\, orientation\, prise
  en charge\, soin\, accompagnement.\nCette journée est l’occasion pour 
 les professionnels\, les bénévoles et les élus d’un même territoire 
 de se rencontrer et d’échanger.\nCette journée est une initiative du c
 ollectif Misaco Centre Bretagne.\n\n\n\n&nbsp\;\n\n&nbsp\;\n\n&nbsp\;
ATTACH;FMTTYPE=image/jpeg:https://sesam-bretagne.fr/wp-content/uploads/202
 3/05/logo-misaco.jpg
CATEGORIES:Bénévoles,Professionnels
LOCATION:Espace Artus\, 29 Rue des Sports\, Noyal-Pontivy\, 56920 \, France
GEO:48.068217;-2.886307
X-APPLE-STRUCTURED-LOCATION;VALUE=URI;X-ADDRESS=29 Rue des Sports\, Noyal-P
 ontivy\, 56920 \, France;X-APPLE-RADIUS=100;X-TITLE=Espace Artus:geo:48.06
 8217,-2.886307
END:VEVENT
BEGIN:VTIMEZONE
TZID:Europe/Paris
X-LIC-LOCATION:Europe/Paris
BEGIN:DAYLIGHT
DTSTART:20230326T030000
TZOFFSETFROM:+0100
TZOFFSETTO:+0200
TZNAME:CEST
END:DAYLIGHT
END:VTIMEZONE
END:VCALENDAR