BEGIN:VCALENDAR
VERSION:2.0
PRODID:-//wp-events-plugin.com//7.2.3.1//EN
TZID:Europe/Paris
X-WR-TIMEZONE:Europe/Paris
BEGIN:VEVENT
UID:144@sesam-bretagne.fr
DTSTART;TZID=Europe/Paris:20230510T180000
DTEND;TZID=Europe/Paris:20230510T200000
DTSTAMP:20230425T093235Z
URL:https://sesam-bretagne.fr/evenements/parents-dados-a-chacun-sa-recette
 -8/
SUMMARY:Parents d'ados : à chacun sa recette !
DESCRIPTION:L'équipe de CAPJeunes propose tous les mois un temps de rencon
 tre à destination des parents d'adolescents pour échanger autour d'un th
 ème. Nous avons intitulé ces rencontres : "parents d'ado : à chacun sa 
 recette !"\nLa prochaine rencontre aura lieu le Mercredi 10 mai à partir 
 de 18h\, dans les locaux de CAPJeunes et s'articulera autour du thème "Mo
 n ado et ses soirées".
ATTACH;FMTTYPE=image/jpeg:https://sesam-bretagne.fr/wp-content/uploads/202
 3/04/parents-d-ado-a-chacun-sa-recette.jpg
CATEGORIES:Parents
LOCATION:CAPJeunes\, 2 Boulevard Mendes France\, Guingamp\, 22200\, France
GEO:48.565020;-3.160742
X-APPLE-STRUCTURED-LOCATION;VALUE=URI;X-ADDRESS=2 Boulevard Mendes France\,
  Guingamp\, 22200\, France;X-APPLE-RADIUS=100;X-TITLE=CAPJeunes:geo:48.565
 020,-3.160742
END:VEVENT
BEGIN:VTIMEZONE
TZID:Europe/Paris
X-LIC-LOCATION:Europe/Paris
BEGIN:DAYLIGHT
DTSTART:20230326T030000
TZOFFSETFROM:+0100
TZOFFSETTO:+0200
TZNAME:CEST
END:DAYLIGHT
END:VTIMEZONE
END:VCALENDAR