BEGIN:VCALENDAR
VERSION:2.0
PRODID:-//wp-events-plugin.com//7.2.3.1//EN
TZID:Europe/Paris
X-WR-TIMEZONE:Europe/Paris
BEGIN:VEVENT
UID:142@sesam-bretagne.fr
DTSTART;TZID=Europe/Paris:20230612T100000
DTEND;TZID=Europe/Paris:20230612T113000
DTSTAMP:20230427T155515Z
URL:https://sesam-bretagne.fr/evenements/projet-paej-mission-locale-2/
SUMMARY:Projet PAEJ - Mission Locale
DESCRIPTION:Le dernier atelier du projet PAEJ - Mission Locale Centre Breta
 gne aura lieu le lundi 12 Juin au pôle petite enfance de 10h à 11h30 ave
 c les enfants également. L’objectif est de favoriser la connaissance de
 s modes de garde pour déconstruire les représentations\, échanger sur l
 es moments de séparation et soutenir l’insertion professionnelle.\nEn s
 avoir plus
ATTACH;FMTTYPE=image/jpeg:https://sesam-bretagne.fr/wp-content/uploads/202
 3/04/projets-MLCB-PAEJ.jpg
CATEGORIES:Enfants,Parents
LOCATION:Pôle petite enfance\, Rue Marie Boivin\, Pontivy\, 56300\, France
GEO:48.057574;-2.951372
X-APPLE-STRUCTURED-LOCATION;VALUE=URI;X-ADDRESS=Rue Marie Boivin\, Pontivy\
 , 56300\, France;X-APPLE-RADIUS=100;X-TITLE=Pôle petite enfance:geo:48.05
 7574,-2.951372
END:VEVENT
BEGIN:VTIMEZONE
TZID:Europe/Paris
X-LIC-LOCATION:Europe/Paris
BEGIN:DAYLIGHT
DTSTART:20230326T030000
TZOFFSETFROM:+0100
TZOFFSETTO:+0200
TZNAME:CEST
END:DAYLIGHT
END:VTIMEZONE
END:VCALENDAR